BEGIN:VCALENDAR
VERSION:2.0
PRODID:-//djoNRW - ECPv6.6.0.2//NONSGML v1.0//EN
CALSCALE:GREGORIAN
METHOD:PUBLISH
X-ORIGINAL-URL:https://djonrw.de
X-WR-CALDESC:Veranstaltungen für djoNRW
REFRESH-INTERVAL;VALUE=DURATION:PT1H
X-Robots-Tag:noindex
X-PUBLISHED-TTL:PT1H
BEGIN:VTIMEZONE
TZID:Europe/Berlin
BEGIN:DAYLIGHT
TZOFFSETFROM:+0100
TZOFFSETTO:+0200
TZNAME:CEST
DTSTART:20200329T010000
END:DAYLIGHT
BEGIN:STANDARD
TZOFFSETFROM:+0200
TZOFFSETTO:+0100
TZNAME:CET
DTSTART:20201025T010000
END:STANDARD
END:VTIMEZONE
BEGIN:VEVENT
DTSTART;TZID=Europe/Berlin:20201214T183000
DTEND;TZID=Europe/Berlin:20201214T213000
DTSTAMP:20260422T161617
CREATED:20210126T094656Z
LAST-MODIFIED:20210126T125015Z
UID:3117-1607970600-1607981400@djonrw.de
SUMMARY:djonline #1 Zoomworkshop
DESCRIPTION:Dieses Jahr hat uns vor große Herausforderungen gestellt und auch gezeigt wie wichtig die Digitalisierung in der Jugendarbeit ist. Doch vielen stellt sich die Frage\, wie setzen wir das um\, wie können wir digitaler werden und wie kann das Ganze auch noch Spaß machen? Um einer winterlichen Durststrecke der Vereinsarbeit entgegenzuwirken\, laden wir euch herzlich zu unserer Workshopreihe #djonline ein. Hierbei möchten wir gemeinsam mit euch kreative und interaktive Methoden der digitalen Jugendarbeit erproben und euch die entsprechende Software näherbringen.\n \nIm ersten Workshop beschäftigen wir uns mit der Videokommunikationsplattform Zoom. Die App ist mittlerweile in aller Munde\, aber sie kann noch viel mehr als euch alle gleichzeitig auf einem Bildschirm anzuzeigen … was genau? Das erfahrt ihr in der ersten Session unserer Workshopreihe.\n \nNeben den allgemeinen technischen Möglichkeiten\, die Zoom bietet (Plenumsfunktionen\, Host- Funktionen\, Breakout-Rooms)\, stellen wir euch digitale Methoden der Jugendarbeit wie Energizer und Warmups vor. Ihr erfahrt\, wie ihr Zoom in euren Gruppen und Gliederungen nutzen könnt\, welche Möglichkeiten es gibt und wie ihr kreativ mit der App umgeht. Die Schulung richtet sich sowohl an Zoom-Erstis als auch an Fortgeschrittene.\n \nMacht mit und erfahrt mehr über die Welt von Zoom!\n \n\nFür wen?\nDas Angebot richtet sich an alle Mitglieder der djoNRW\, die mehr über Zoom und die Einsatzmöglichkeiten der App erfahren möchten.\n 
URL:https://djonrw.de/veranstaltung/djonline-1-zoomworkshop/
LOCATION:zoom – online
END:VEVENT
END:VCALENDAR